BEGIN:VCALENDAR
METHOD:PUBLISH
VERSION:2.0
CALSCALE:GREGORIAN
PRODID:-//NONSGML Sandhills Development\, LLC//NONSGML Sugar Calendar Fe
 eds v3.8.1//EN
X-WR-CALNAME:Port Hardy Spring Recreation Guide is now out!
X-WR-CALDESC:My Vancouver Island North
X-WR-TIMEZONE:America/Vancouver
BEGIN:VTIMEZONE
TZID:America/Vancouver
BEGIN:STANDARD
TZOFFSETFROM:-0700
TZOFFSETTO:-0800
DTSTART:20221106T090000
TZNAME:PST
END:STANDARD
BEGIN:DAYLIGHT
TZOFFSETFROM:-0800
TZOFFSETTO:-0700
DTSTART:20230312T100000
TZNAME:PDT
END:DAYLIGHT
END:VTIMEZONE
BEGIN:VTIMEZONE
TZID:America/Vancouver
BEGIN:STANDARD
TZOFFSETFROM:-0700
TZOFFSETTO:-0800
DTSTART:20221106T090000
TZNAME:PST
END:STANDARD
BEGIN:DAYLIGHT
TZOFFSETFROM:-0800
TZOFFSETTO:-0700
DTSTART:20230312T100000
TZNAME:PDT
END:DAYLIGHT
END:VTIMEZONE
BEGIN:VEVENT
SUMMARY:Port Hardy Spring Recreation Guide is now out!
DESCRIPTION:Our Spring 2023 Recreation Guide is getting released\, and r
 egistration opens this Friday\, March 17 at 9:00 am! Here is a sneak pee
 k of all the certifications\, programs\, classes\, and events we will ho
 st!\nClick here to see the Spring Guide:\nhttps://www.canva.com/.../DAF.
 ../RMwWwKY6hlT8Cqxfgjr7Jw/view
URL;VALUE=URI:https://myvancouverislandnorth.ca/events/port-hardy-spring
 -recreation-guide-is-now-out/
UID:urn:uuid:c30d1b88-419c-477d-bec5-f11a424705f2
STATUS:CONFIRMED
ORGANIZER:
DTSTAMP:20260419T133108Z
DTSTART;TZID=America/Vancouver:20230317T000000
DTEND;TZID=America/Vancouver:20230317T000000
LOCATION:Port Hardy Civic Centre
END:VEVENT
END:VCALENDAR